BEGIN:VCALENDAR
VERSION:2.0
PRODID:-//CERN//INDICO//EN
BEGIN:VEVENT
SUMMARY:Extragalactic gamma-ray background
DTSTART;VALUE=DATE-TIME:20160502T090000Z
DTEND;VALUE=DATE-TIME:20160502T094500Z
DTSTAMP;VALUE=DATE-TIME:20240318T194120Z
UID:indico-contribution-407@ictp.it
DESCRIPTION:Speakers: MARKUS ACKERMANN (DESY\, Germany)\n//indico.ictp.it/
 event/7625/session/140/contribution/407
LOCATION:ICTP Adriatico Guest House - Kastler Lecture Hall
URL://indico.ictp.it/event/7625/session/140/contribution/407
END:VEVENT
END:VCALENDAR
