BEGIN:VCALENDAR
VERSION:2.0
PRODID:-//CERN//INDICO//EN
BEGIN:VEVENT
SUMMARY:HESS/HESS2 results on extragalactic source properties
DTSTART;VALUE=DATE-TIME:20160502T094500Z
DTEND;VALUE=DATE-TIME:20160502T103000Z
DTSTAMP;VALUE=DATE-TIME:20240318T195532Z
UID:indico-contribution-408@ictp.it
DESCRIPTION:Speakers: ANDREW TAYLOR (DIAS\, Ireland)\n//indico.ictp.it/eve
 nt/7625/session/140/contribution/408
LOCATION:ICTP Adriatico Guest House - Kastler Lecture Hall
URL://indico.ictp.it/event/7625/session/140/contribution/408
END:VEVENT
END:VCALENDAR
