BEGIN:VCALENDAR
VERSION:2.0
PRODID:-//CERN//INDICO//EN
BEGIN:VEVENT
SUMMARY:Gamma rays: Angular anisotropies
DTSTART;VALUE=DATE-TIME:20160502T133000Z
DTEND;VALUE=DATE-TIME:20160502T140000Z
DTSTAMP;VALUE=DATE-TIME:20240318T180638Z
UID:indico-contribution-411@ictp.it
DESCRIPTION:Speakers: MATTIA FORNASA (GRAPPA Institute\,  University of Am
 sterdam)\n//indico.ictp.it/event/7625/session/141/contribution/411
LOCATION:ICTP Adriatico Guest House - Kastler Lecture Hall
URL://indico.ictp.it/event/7625/session/141/contribution/411
END:VEVENT
END:VCALENDAR
