BEGIN:VCALENDAR
VERSION:2.0
PRODID:-//CERN//INDICO//EN
BEGIN:VEVENT
SUMMARY:Angular correlation studies with neutrinos\, UHECRs and sources
DTSTART;VALUE=DATE-TIME:20160502T143000Z
DTEND;VALUE=DATE-TIME:20160502T150000Z
DTSTAMP;VALUE=DATE-TIME:20240318T194733Z
UID:indico-contribution-142-0-412@ictp.it
DESCRIPTION:Speakers: SOEBUR RAZZAQUE (University of Johannesburg\, South 
 Africa)\n//indico.ictp.it/event/7625/session/142/contribution/412
LOCATION:ICTP Adriatico Guest House - Kastler Lecture Hall
URL://indico.ictp.it/event/7625/session/142/contribution/412
END:VEVENT
BEGIN:VEVENT
SUMMARY:Latest Fermi-LAT results on EBL gamma-ray attenuation
DTSTART;VALUE=DATE-TIME:20160502T150000Z
DTEND;VALUE=DATE-TIME:20160502T153000Z
DTSTAMP;VALUE=DATE-TIME:20240318T194733Z
UID:indico-contribution-142-0-413@ictp.it
DESCRIPTION:Speakers: ALBERTO DOMINGUEZ (Universidad Complutense de Madrid
 \, Spain)\n//indico.ictp.it/event/7625/session/142/contribution/413
LOCATION:ICTP Adriatico Guest House - Kastler Lecture Hall
URL://indico.ictp.it/event/7625/session/142/contribution/413
END:VEVENT
BEGIN:VEVENT
SUMMARY:Fermi LAT/ACT connection
DTSTART;VALUE=DATE-TIME:20160502T153000Z
DTEND;VALUE=DATE-TIME:20160502T160000Z
DTSTAMP;VALUE=DATE-TIME:20240318T194733Z
UID:indico-contribution-142-0-414@ictp.it
DESCRIPTION:Speakers: JONATHAN BITEAU (IPN - Univ. Paris Sud - Univ. Paris
 /Saclay\, France)\n//indico.ictp.it/event/7625/session/142/contribution/41
 4
LOCATION:ICTP Adriatico Guest House - Kastler Lecture Hall
URL://indico.ictp.it/event/7625/session/142/contribution/414
END:VEVENT
END:VCALENDAR
