BEGIN:VCALENDAR
VERSION:2.0
PRODID:-//CERN//INDICO//EN
BEGIN:VEVENT
SUMMARY:GRB neutrino limits from Auger
DTSTART;VALUE=DATE-TIME:20160503T143000Z
DTEND;VALUE=DATE-TIME:20160503T144500Z
DTSTAMP;VALUE=DATE-TIME:20240318T201512Z
UID:indico-contribution-146-0-422@ictp.it
DESCRIPTION:Speakers: LILI YANG (University of Nova Gorica\, Slovenia)\n//
 indico.ictp.it/event/7625/session/146/contribution/422
LOCATION:ICTP Adriatico Guest House - Kastler Lecture Hall
URL://indico.ictp.it/event/7625/session/146/contribution/422
END:VEVENT
BEGIN:VEVENT
SUMMARY:Cosmogenic neutrinos challenge the cosmic ray proton dip model
DTSTART;VALUE=DATE-TIME:20160503T144500Z
DTEND;VALUE=DATE-TIME:20160503T150000Z
DTSTAMP;VALUE=DATE-TIME:20240318T201512Z
UID:indico-contribution-146-0-423@ictp.it
DESCRIPTION:Speakers: DENISE BONCIOLI (DESY Zeuthen\, Germany)\n//indico.i
 ctp.it/event/7625/session/146/contribution/423
LOCATION:ICTP Adriatico Guest House - Kastler Lecture Hall
URL://indico.ictp.it/event/7625/session/146/contribution/423
END:VEVENT
BEGIN:VEVENT
SUMMARY:Tidal disruption events as possible sources of UHECRs
DTSTART;VALUE=DATE-TIME:20160503T150000Z
DTEND;VALUE=DATE-TIME:20160503T151500Z
DTSTAMP;VALUE=DATE-TIME:20240318T201512Z
UID:indico-contribution-146-0-424@ictp.it
DESCRIPTION:Speakers: AURORA CLERICI (University of Nova Gorica\, Slovenia
 )\n//indico.ictp.it/event/7625/session/146/contribution/424
LOCATION:ICTP Adriatico Guest House - Kastler Lecture Hall
URL://indico.ictp.it/event/7625/session/146/contribution/424
END:VEVENT
BEGIN:VEVENT
SUMMARY:Cosmic-Ray Acceleration in galactic Interactions and its implicati
 ons
DTSTART;VALUE=DATE-TIME:20160503T151500Z
DTEND;VALUE=DATE-TIME:20160503T153000Z
DTSTAMP;VALUE=DATE-TIME:20240318T201512Z
UID:indico-contribution-146-0-425@ictp.it
DESCRIPTION:Speakers: TIJANA PRODANOVIC (University of Novi Sad\, Serbia)\
 n//indico.ictp.it/event/7625/session/146/contribution/425
LOCATION:ICTP Adriatico Guest House - Kastler Lecture Hall
URL://indico.ictp.it/event/7625/session/146/contribution/425
END:VEVENT
BEGIN:VEVENT
SUMMARY:Star formation and high energy neutrinos at IceCube: a correlation
 ? (20' talk + 10' discussion)
DTSTART;VALUE=DATE-TIME:20160503T153000Z
DTEND;VALUE=DATE-TIME:20160503T160000Z
DTSTAMP;VALUE=DATE-TIME:20240318T201512Z
UID:indico-contribution-146-0-426@ictp.it
DESCRIPTION:Speakers: CECILIA LUNARDINI (Arizona State University\, USA)\n
 //indico.ictp.it/event/7625/session/146/contribution/426
LOCATION:ICTP Adriatico Guest House - Kastler Lecture Hall
URL://indico.ictp.it/event/7625/session/146/contribution/426
END:VEVENT
END:VCALENDAR
