BEGIN:VCALENDAR
VERSION:2.0
PRODID:-//CERN//INDICO//EN
BEGIN:VEVENT
SUMMARY:Gamma-ray Bursts Emission Models 1
DTSTART;VALUE=DATE-TIME:20160505T090000Z
DTEND;VALUE=DATE-TIME:20160505T093000Z
DTSTAMP;VALUE=DATE-TIME:20240318T181119Z
UID:indico-contribution-151-0-435@ictp.it
DESCRIPTION:Speakers: ZELJKA BOSNJAK (University of Rijeka\, Croatia)\n//i
 ndico.ictp.it/event/7625/session/151/contribution/435
LOCATION:ICTP Adriatico Guest House - Kastler Lecture Hall
URL://indico.ictp.it/event/7625/session/151/contribution/435
END:VEVENT
BEGIN:VEVENT
SUMMARY:Gamma-ray Bursts Emission Models 2
DTSTART;VALUE=DATE-TIME:20160505T093000Z
DTEND;VALUE=DATE-TIME:20160505T100000Z
DTSTAMP;VALUE=DATE-TIME:20240318T181119Z
UID:indico-contribution-151-0-436@ictp.it
DESCRIPTION:Speakers: ANDREJA GOMBOC (University of Nova Gorica\, Slovenia
 )\n//indico.ictp.it/event/7625/session/151/contribution/436
LOCATION:ICTP Adriatico Guest House - Kastler Lecture Hall
URL://indico.ictp.it/event/7625/session/151/contribution/436
END:VEVENT
BEGIN:VEVENT
SUMMARY:Gamma-ray Bursts observations with Fermi
DTSTART;VALUE=DATE-TIME:20160505T100000Z
DTEND;VALUE=DATE-TIME:20160505T103000Z
DTSTAMP;VALUE=DATE-TIME:20240318T181119Z
UID:indico-contribution-151-0-437@ictp.it
DESCRIPTION:Speakers: MAGNUS AXELSSON (Stockholm University\, Sweden)\n//i
 ndico.ictp.it/event/7625/session/151/contribution/437
LOCATION:ICTP Adriatico Guest House - Kastler Lecture Hall
URL://indico.ictp.it/event/7625/session/151/contribution/437
END:VEVENT
END:VCALENDAR
