BEGIN:VCALENDAR
VERSION:2.0
PRODID:-//CERN//INDICO//EN
BEGIN:VEVENT
SUMMARY:WIMPY Baryogenesis
DTSTART;VALUE=DATE-TIME:20160505T154500Z
DTEND;VALUE=DATE-TIME:20160505T160000Z
DTSTAMP;VALUE=DATE-TIME:20240318T191836Z
UID:indico-contribution-447@ictp.it
DESCRIPTION:Speakers: SUDHANWA PATRA (Siksha 'O' Anusandhan University\, B
 hubaneswar\, India)\n//indico.ictp.it/event/7625/session/153/contribution/
 447
LOCATION:ICTP Adriatico Guest House - Kastler Lecture Hall
URL://indico.ictp.it/event/7625/session/153/contribution/447
END:VEVENT
END:VCALENDAR
