BEGIN:VCALENDAR
VERSION:2.0
PRODID:-//CERN//INDICO//EN
BEGIN:VEVENT
SUMMARY:Higher genus partition functions from 3D gravity
DTSTART;VALUE=DATE-TIME:20160321T133000Z
DTEND;VALUE=DATE-TIME:20160321T140000Z
DTSTAMP;VALUE=DATE-TIME:20240319T123356Z
UID:indico-contribution-94@ictp.it
DESCRIPTION:Speakers: HENRY MAXFIELD (McGill University)\n//indico.ictp.it
 /event/7629/session/12/contribution/94
LOCATION:ICTP Leonardo Building - Budinich Lecture Hall
URL://indico.ictp.it/event/7629/session/12/contribution/94
END:VEVENT
END:VCALENDAR
