BEGIN:VCALENDAR
VERSION:2.0
PRODID:-//CERN//INDICO//EN
BEGIN:VEVENT
SUMMARY:Rainbow Vacua of Colored Three-Dimensional (Anti) De Sitter Gravit
 y
DTSTART;VALUE=DATE-TIME:20160324T080000Z
DTEND;VALUE=DATE-TIME:20160324T090000Z
DTSTAMP;VALUE=DATE-TIME:20240319T120942Z
UID:indico-contribution-112@ictp.it
DESCRIPTION:Speakers: SOO-JONG REY (National University Seoul)\n//indico.i
 ctp.it/event/7629/session/15/contribution/112
LOCATION:ICTP Leonardo Building - Budinich Lecture Hall
URL://indico.ictp.it/event/7629/session/15/contribution/112
END:VEVENT
END:VCALENDAR
