BEGIN:VCALENDAR
VERSION:2.0
PRODID:-//CERN//INDICO//EN
BEGIN:VEVENT
SUMMARY:Hospital Practicals: QC and Dosimetry in CT & Parallel Sessions "P
 atient dose estimation exercise" at ICTP
DTSTART;VALUE=DATE-TIME:20160504T120000Z
DTEND;VALUE=DATE-TIME:20160504T150000Z
DTSTAMP;VALUE=DATE-TIME:20240318T151539Z
UID:indico-contribution-13@ictp.it
DESCRIPTION:Speakers: MAHESH\, Mahadevappa ()\n//indico.ictp.it/event/7635
 /session/2/contribution/13
LOCATION:LB\, InfoLab Leonardo Building - Lab
URL://indico.ictp.it/event/7635/session/2/contribution/13
END:VEVENT
END:VCALENDAR
