BEGIN:VCALENDAR
VERSION:2.0
PRODID:-//CERN//INDICO//EN
BEGIN:VEVENT
SUMMARY:Advanced Dosimetry - individualized dosimetry
DTSTART;VALUE=DATE-TIME:20160506T070000Z
DTEND;VALUE=DATE-TIME:20160506T080000Z
DTSTAMP;VALUE=DATE-TIME:20240318T164637Z
UID:indico-contribution-4-0-19@ictp.it
DESCRIPTION:Speakers: DAMILAKIS\, John ()\n//indico.ictp.it/event/7635/ses
 sion/4/contribution/19
LOCATION:ICTP LB (Euler Lecture Hall)
URL://indico.ictp.it/event/7635/session/4/contribution/19
END:VEVENT
BEGIN:VEVENT
SUMMARY:Embryo/fetal dosimetry - dose calculation software
DTSTART;VALUE=DATE-TIME:20160506T080000Z
DTEND;VALUE=DATE-TIME:20160506T100000Z
DTSTAMP;VALUE=DATE-TIME:20240318T164637Z
UID:indico-contribution-4-0-20@ictp.it
DESCRIPTION:Speakers: DAMILAKIS\, John ()\n//indico.ictp.it/event/7635/ses
 sion/4/contribution/20
LOCATION:LB\, InfoLab Leonardo Building - Lab
URL://indico.ictp.it/event/7635/session/4/contribution/20
END:VEVENT
BEGIN:VEVENT
SUMMARY:Cone Beam CT
DTSTART;VALUE=DATE-TIME:20160506T100000Z
DTEND;VALUE=DATE-TIME:20160506T110000Z
DTSTAMP;VALUE=DATE-TIME:20240318T164637Z
UID:indico-contribution-4-0-21@ictp.it
DESCRIPTION:Speakers: BREGANT\, Paola (Ospedale Maggiore\, Trieste)\n//ind
 ico.ictp.it/event/7635/session/4/contribution/21
LOCATION:ICTP LB (Euler Lecture Hall)
URL://indico.ictp.it/event/7635/session/4/contribution/21
END:VEVENT
BEGIN:VEVENT
SUMMARY:CT Simulator
DTSTART;VALUE=DATE-TIME:20160506T120000Z
DTEND;VALUE=DATE-TIME:20160506T130000Z
DTSTAMP;VALUE=DATE-TIME:20240318T164637Z
UID:indico-contribution-4-0-22@ictp.it
DESCRIPTION:Speakers: CORA\, Stefania (Vicenza Hospital\, Italy)\n//indico
 .ictp.it/event/7635/session/4/contribution/22
LOCATION:ICTP LB (Euler Lecture Hall)
URL://indico.ictp.it/event/7635/session/4/contribution/22
END:VEVENT
END:VCALENDAR
