BEGIN:VCALENDAR
VERSION:2.0
PRODID:-//CERN//INDICO//EN
BEGIN:VEVENT
SUMMARY:International BSS and IAEA work on implementation
DTSTART;VALUE=DATE-TIME:20160509T073000Z
DTEND;VALUE=DATE-TIME:20160509T080000Z
DTSTAMP;VALUE=DATE-TIME:20240318T154727Z
UID:indico-contribution-24@ictp.it
DESCRIPTION:Speakers: VASSILEVA\, Jenia (IAEA\, Vienna\, Austria)\n//indic
 o.ictp.it/event/7635/session/5/contribution/24
LOCATION:ICTP LB (Euler Lecture Hall)
URL://indico.ictp.it/event/7635/session/5/contribution/24
END:VEVENT
END:VCALENDAR
