BEGIN:VCALENDAR
VERSION:2.0
PRODID:-//CERN//INDICO//EN
BEGIN:VEVENT
SUMMARY:Italian experience in CT dose tracking
DTSTART;VALUE=DATE-TIME:20160509T123000Z
DTEND;VALUE=DATE-TIME:20160509T130000Z
DTSTAMP;VALUE=DATE-TIME:20240318T172837Z
UID:indico-contribution-31@ictp.it
DESCRIPTION:Speakers: BREGANT\, Paola ()\n//indico.ictp.it/event/7635/sess
 ion/5/contribution/31
LOCATION:ICTP LB (Euler Lecture Hall)
URL://indico.ictp.it/event/7635/session/5/contribution/31
END:VEVENT
END:VCALENDAR
