BEGIN:VCALENDAR
VERSION:2.0
PRODID:-//CERN//INDICO//EN
BEGIN:VEVENT
SUMMARY:Interactive session: dose tracking and DRLs for CT
DTSTART;VALUE=DATE-TIME:20160509T130000Z
DTEND;VALUE=DATE-TIME:20160509T133000Z
DTSTAMP;VALUE=DATE-TIME:20240318T164026Z
UID:indico-contribution-32@ictp.it
DESCRIPTION:Speakers: ALL PARTICIPANTS ()\n//indico.ictp.it/event/7635/ses
 sion/5/contribution/32
LOCATION:ICTP LB (Euler Lecture Hall)
URL://indico.ictp.it/event/7635/session/5/contribution/32
END:VEVENT
END:VCALENDAR
