BEGIN:VCALENDAR
VERSION:2.0
PRODID:-//CERN//INDICO//EN
BEGIN:VEVENT
SUMMARY:Cardiac CT
DTSTART;VALUE=DATE-TIME:20160511T080000Z
DTEND;VALUE=DATE-TIME:20160511T090000Z
DTSTAMP;VALUE=DATE-TIME:20240318T150240Z
UID:indico-contribution-40@ictp.it
DESCRIPTION:Speakers: CASTELLANO\, Isabel ()\n//indico.ictp.it/event/7635/
 session/7/contribution/40
LOCATION:ICTP LB (Euler Lecture Hall)
URL://indico.ictp.it/event/7635/session/7/contribution/40
END:VEVENT
END:VCALENDAR
