BEGIN:VCALENDAR
VERSION:2.0
PRODID:-//CERN//INDICO//EN
BEGIN:VEVENT
SUMMARY:Patient protection in CT
DTSTART;VALUE=DATE-TIME:20160511T103000Z
DTEND;VALUE=DATE-TIME:20160511T110000Z
DTSTAMP;VALUE=DATE-TIME:20240318T155814Z
UID:indico-contribution-42@ictp.it
DESCRIPTION:Speakers: CASTELLANO\, Isabel ()\n//indico.ictp.it/event/7635/
 session/7/contribution/42
LOCATION:ICTP LB (Euler Lecture Hall)
URL://indico.ictp.it/event/7635/session/7/contribution/42
END:VEVENT
END:VCALENDAR
