BEGIN:VCALENDAR
VERSION:2.0
PRODID:-//CERN//INDICO//EN
BEGIN:VEVENT
SUMMARY:Abdomen CT
DTSTART;VALUE=DATE-TIME:20160512T070000Z
DTEND;VALUE=DATE-TIME:20160512T080000Z
DTSTAMP;VALUE=DATE-TIME:20240318T173833Z
UID:indico-contribution-8-0-44@ictp.it
DESCRIPTION:Speakers: KALRA\, Mannudeep ()\n//indico.ictp.it/event/7635/se
 ssion/8/contribution/44
LOCATION:ICTP LB (Euler Lecture Hall)
URL://indico.ictp.it/event/7635/session/8/contribution/44
END:VEVENT
BEGIN:VEVENT
SUMMARY:Paedriatric CT
DTSTART;VALUE=DATE-TIME:20160512T080000Z
DTEND;VALUE=DATE-TIME:20160512T090000Z
DTSTAMP;VALUE=DATE-TIME:20240318T173833Z
UID:indico-contribution-8-0-46@ictp.it
DESCRIPTION:Speakers: CASTELLANO\, Isabel ()\n//indico.ictp.it/event/7635/
 session/8/contribution/46
LOCATION:ICTP LB (Euler Lecture Hall)
URL://indico.ictp.it/event/7635/session/8/contribution/46
END:VEVENT
BEGIN:VEVENT
SUMMARY:Conclusions from the IAEA survey on paediatric CT
DTSTART;VALUE=DATE-TIME:20160512T093000Z
DTEND;VALUE=DATE-TIME:20160512T100000Z
DTSTAMP;VALUE=DATE-TIME:20240318T173833Z
UID:indico-contribution-8-0-47@ictp.it
DESCRIPTION:Speakers: VASSILEVA\, Jenia ()\n//indico.ictp.it/event/7635/se
 ssion/8/contribution/47
LOCATION:ICTP LB (Euler Lecture Hall)
URL://indico.ictp.it/event/7635/session/8/contribution/47
END:VEVENT
BEGIN:VEVENT
SUMMARY:Head CT
DTSTART;VALUE=DATE-TIME:20160512T100000Z
DTEND;VALUE=DATE-TIME:20160512T110000Z
DTSTAMP;VALUE=DATE-TIME:20240318T173833Z
UID:indico-contribution-8-0-48@ictp.it
DESCRIPTION:Speakers: KALRA\, Mannudeep ()\n//indico.ictp.it/event/7635/se
 ssion/8/contribution/48
LOCATION:ICTP LB (Euler Lecture Hall)
URL://indico.ictp.it/event/7635/session/8/contribution/48
END:VEVENT
BEGIN:VEVENT
SUMMARY:Classroom practical in groups: review of CT protocols
DTSTART;VALUE=DATE-TIME:20160512T120000Z
DTEND;VALUE=DATE-TIME:20160512T150000Z
DTSTAMP;VALUE=DATE-TIME:20240318T173833Z
UID:indico-contribution-8-0-49@ictp.it
DESCRIPTION:Speakers: KALRA & CASTELLANO ()\n//indico.ictp.it/event/7635/s
 ession/8/contribution/49
LOCATION:ICTP LB (Euler Lecture Hall)
URL://indico.ictp.it/event/7635/session/8/contribution/49
END:VEVENT
END:VCALENDAR
