BEGIN:VCALENDAR
VERSION:2.0
PRODID:-//CERN//INDICO//EN
BEGIN:VEVENT
SUMMARY:Clinical aspects of CT in pregnancy
DTSTART;VALUE=DATE-TIME:20160513T070000Z
DTEND;VALUE=DATE-TIME:20160513T073000Z
DTSTAMP;VALUE=DATE-TIME:20240318T173605Z
UID:indico-contribution-50@ictp.it
DESCRIPTION:Speakers: KALRA\, Mannudeep ()\n//indico.ictp.it/event/7635/se
 ssion/9/contribution/50
LOCATION:ICTP LB (Euler Lecture Hall)
URL://indico.ictp.it/event/7635/session/9/contribution/50
END:VEVENT
END:VCALENDAR
