BEGIN:VCALENDAR
VERSION:2.0
PRODID:-//CERN//INDICO//EN
BEGIN:VEVENT
SUMMARY:CT and obesity
DTSTART;VALUE=DATE-TIME:20160513T073000Z
DTEND;VALUE=DATE-TIME:20160513T080000Z
DTSTAMP;VALUE=DATE-TIME:20240318T161034Z
UID:indico-contribution-51@ictp.it
DESCRIPTION:Speakers: KALRA\, Mannudeep ()\n//indico.ictp.it/event/7635/se
 ssion/9/contribution/51
LOCATION:ICTP LB (Euler Lecture Hall)
URL://indico.ictp.it/event/7635/session/9/contribution/51
END:VEVENT
END:VCALENDAR
