BEGIN:VCALENDAR
VERSION:2.0
PRODID:-//CERN//INDICO//EN
BEGIN:VEVENT
SUMMARY:Classroom Practical: review of dose data
DTSTART;VALUE=DATE-TIME:20160513T120000Z
DTEND;VALUE=DATE-TIME:20160513T133000Z
DTSTAMP;VALUE=DATE-TIME:20240318T161709Z
UID:indico-contribution-54@ictp.it
DESCRIPTION:Speakers: CASTELLANO\, Isabel ()\n//indico.ictp.it/event/7635/
 session/9/contribution/54
LOCATION:ICTP LB (Euler Lecture Hall)
URL://indico.ictp.it/event/7635/session/9/contribution/54
END:VEVENT
END:VCALENDAR
