BEGIN:VCALENDAR
VERSION:2.0
PRODID:-//CERN//INDICO//EN
BEGIN:VEVENT
SUMMARY:Pre-test
DTSTART;VALUE=DATE-TIME:20160411T140000Z
DTEND;VALUE=DATE-TIME:20160411T143000Z
DTSTAMP;VALUE=DATE-TIME:20240319T005021Z
UID:indico-contribution-236@ictp.it
DESCRIPTION:Speakers: \n//indico.ictp.it/event/7636/session/33/contributio
 n/236
LOCATION:ICTP Adriatico Guest House - Kastler Lecture Hall
URL://indico.ictp.it/event/7636/session/33/contribution/236
END:VEVENT
END:VCALENDAR
