BEGIN:VCALENDAR
VERSION:2.0
PRODID:-//CERN//INDICO//EN
BEGIN:VEVENT
SUMMARY:Defining Requirements for Physical Protection: Facility Characteri
 zation and Target Identification
DTSTART;VALUE=DATE-TIME:20160412T140000Z
DTEND;VALUE=DATE-TIME:20160412T150000Z
DTSTAMP;VALUE=DATE-TIME:20240319T013804Z
UID:indico-contribution-245@ictp.it
DESCRIPTION:Speakers: AXEL HAGEMANN (Germany)\n//indico.ictp.it/event/7636
 /session/34/contribution/245
LOCATION:ICTP Adriatico Guest House - Kastler Lecture Hall
URL://indico.ictp.it/event/7636/session/34/contribution/245
END:VEVENT
END:VCALENDAR
