BEGIN:VCALENDAR
VERSION:2.0
PRODID:-//CERN//INDICO//EN
BEGIN:VEVENT
SUMMARY:Introduction to Nuclear Material Accounting and Control (NMAC) for
  Nuclear Security Purposes
DTSTART;VALUE=DATE-TIME:20160413T100000Z
DTEND;VALUE=DATE-TIME:20160413T103000Z
DTSTAMP;VALUE=DATE-TIME:20240319T004505Z
UID:indico-contribution-250@ictp.it
DESCRIPTION:Speakers: MARTHA WILLIAMS (Lawrence Livermore National Laborat
 ory)\n//indico.ictp.it/event/7636/session/35/contribution/250
LOCATION:ICTP Adriatico Guest House - Kastler Lecture Hall
URL://indico.ictp.it/event/7636/session/35/contribution/250
END:VEVENT
END:VCALENDAR
