BEGIN:VCALENDAR
VERSION:2.0
PRODID:-//CERN//INDICO//EN
BEGIN:VEVENT
SUMMARY:Questions and summary
DTSTART;VALUE=DATE-TIME:20160413T160000Z
DTEND;VALUE=DATE-TIME:20160413T163000Z
DTSTAMP;VALUE=DATE-TIME:20240319T014212Z
UID:indico-contribution-256@ictp.it
DESCRIPTION:Speakers: \n//indico.ictp.it/event/7636/session/35/contributio
 n/256
LOCATION:ICTP Adriatico Guest House - Kastler Lecture Hall
URL://indico.ictp.it/event/7636/session/35/contribution/256
END:VEVENT
END:VCALENDAR
