BEGIN:VCALENDAR
VERSION:2.0
PRODID:-//CERN//INDICO//EN
BEGIN:VEVENT
SUMMARY:Computer Security
DTSTART;VALUE=DATE-TIME:20160414T080000Z
DTEND;VALUE=DATE-TIME:20160414T090000Z
DTSTAMP;VALUE=DATE-TIME:20240319T014012Z
UID:indico-contribution-258@ictp.it
DESCRIPTION:Speakers: ANNO KEIZER (URENCO)\n//indico.ictp.it/event/7636/se
 ssion/36/contribution/258
LOCATION:ICTP Adriatico Guest House - Kastler Lecture Hall
URL://indico.ictp.it/event/7636/session/36/contribution/258
END:VEVENT
END:VCALENDAR
