BEGIN:VCALENDAR
VERSION:2.0
PRODID:-//CERN//INDICO//EN
BEGIN:VEVENT
SUMMARY:Exercise: Categorization and Security Measures
DTSTART;VALUE=DATE-TIME:20160415T100000Z
DTEND;VALUE=DATE-TIME:20160415T103000Z
DTSTAMP;VALUE=DATE-TIME:20240318T235438Z
UID:indico-contribution-269@ictp.it
DESCRIPTION:Speakers: KRISTOF HORVATH (HAEA)\n//indico.ictp.it/event/7636/
 session/37/contribution/269
LOCATION:ICTP Adriatico Guest House - Kastler Lecture Hall
URL://indico.ictp.it/event/7636/session/37/contribution/269
END:VEVENT
END:VCALENDAR
