BEGIN:VCALENDAR
VERSION:2.0
PRODID:-//CERN//INDICO//EN
BEGIN:VEVENT
SUMMARY:Exercise: Identify Transport Security Measures
DTSTART;VALUE=DATE-TIME:20160415T133000Z
DTEND;VALUE=DATE-TIME:20160415T143000Z
DTSTAMP;VALUE=DATE-TIME:20240318T233143Z
UID:indico-contribution-272@ictp.it
DESCRIPTION:Speakers: TREVOR DIXON (WNTI)\n//indico.ictp.it/event/7636/ses
 sion/37/contribution/272
LOCATION:ICTP Adriatico Guest House - Kastler Lecture Hall
URL://indico.ictp.it/event/7636/session/37/contribution/272
END:VEVENT
END:VCALENDAR
