BEGIN:VCALENDAR
VERSION:2.0
PRODID:-//CERN//INDICO//EN
BEGIN:VEVENT
SUMMARY:Case Studies of Radiological Security Incidents
DTSTART;VALUE=DATE-TIME:20160421T070000Z
DTEND;VALUE=DATE-TIME:20160421T080000Z
DTSTAMP;VALUE=DATE-TIME:20240319T011254Z
UID:indico-contribution-42-0-297@ictp.it
DESCRIPTION:Speakers: PAOLO PEERANI\, VITTORIO FORCINA (JRC)\n//indico.ict
 p.it/event/7636/session/42/contribution/297
LOCATION:ICTP AGH (Kastler Lecture Hall)
URL://indico.ictp.it/event/7636/session/42/contribution/297
END:VEVENT
BEGIN:VEVENT
SUMMARY:Case Studies of Nuclear Material Smuggling Incidents
DTSTART;VALUE=DATE-TIME:20160421T080000Z
DTEND;VALUE=DATE-TIME:20160421T090000Z
DTSTAMP;VALUE=DATE-TIME:20240319T011254Z
UID:indico-contribution-42-0-298@ictp.it
DESCRIPTION:Speakers: PAOLO PEERANI\, VITTORIO FORCINA (JRC)\n//indico.ict
 p.it/event/7636/session/42/contribution/298
LOCATION:ICTP AGH (Kastler Lecture Hall)
URL://indico.ictp.it/event/7636/session/42/contribution/298
END:VEVENT
BEGIN:VEVENT
SUMMARY:Human Resource Development in Nuclear Security
DTSTART;VALUE=DATE-TIME:20160421T093000Z
DTEND;VALUE=DATE-TIME:20160421T103000Z
DTSTAMP;VALUE=DATE-TIME:20240319T011254Z
UID:indico-contribution-42-0-299@ictp.it
DESCRIPTION:Speakers: DMITRIY NIKONOV (IAEA)\n//indico.ictp.it/event/7636/
 session/42/contribution/299
LOCATION:ICTP AGH (Kastler Lecture Hall)
URL://indico.ictp.it/event/7636/session/42/contribution/299
END:VEVENT
BEGIN:VEVENT
SUMMARY:ITDB - the IAEA's Information System on Incidents of Illicit Traff
 icking and Other Unauthorised Events
DTSTART;VALUE=DATE-TIME:20160421T113000Z
DTEND;VALUE=DATE-TIME:20160421T123000Z
DTSTAMP;VALUE=DATE-TIME:20240319T011254Z
UID:indico-contribution-42-0-300@ictp.it
DESCRIPTION:Speakers: GIUSEPPE SEDDA (ISPRA)\n//indico.ictp.it/event/7636/
 session/42/contribution/300
LOCATION:ICTP AGH (Kastler Lecture Hall)
URL://indico.ictp.it/event/7636/session/42/contribution/300
END:VEVENT
BEGIN:VEVENT
SUMMARY:ITDB Global Analysis
DTSTART;VALUE=DATE-TIME:20160421T123000Z
DTEND;VALUE=DATE-TIME:20160421T130000Z
DTSTAMP;VALUE=DATE-TIME:20240319T011254Z
UID:indico-contribution-42-0-301@ictp.it
DESCRIPTION:Speakers: GIUSEPPE SEDDA (ISPRA)\n//indico.ictp.it/event/7636/
 session/42/contribution/301
LOCATION:ICTP AGH (Kastler Lecture Hall)
URL://indico.ictp.it/event/7636/session/42/contribution/301
END:VEVENT
BEGIN:VEVENT
SUMMARY:Emergency Management for Nuclear Security Events
DTSTART;VALUE=DATE-TIME:20160421T133000Z
DTEND;VALUE=DATE-TIME:20160421T143000Z
DTSTAMP;VALUE=DATE-TIME:20240319T011254Z
UID:indico-contribution-42-0-302@ictp.it
DESCRIPTION:Speakers: MARJAN TKAVC (SNSA)\n//indico.ictp.it/event/7636/ses
 sion/42/contribution/302
LOCATION:ICTP AGH (Kastler Lecture Hall)
URL://indico.ictp.it/event/7636/session/42/contribution/302
END:VEVENT
BEGIN:VEVENT
SUMMARY:Questions and summary
DTSTART;VALUE=DATE-TIME:20160421T143000Z
DTEND;VALUE=DATE-TIME:20160421T150000Z
DTSTAMP;VALUE=DATE-TIME:20240319T011254Z
UID:indico-contribution-42-0-303@ictp.it
DESCRIPTION:Speakers: \n//indico.ictp.it/event/7636/session/42/contributio
 n/303
LOCATION:ICTP AGH (Kastler Lecture Hall)
URL://indico.ictp.it/event/7636/session/42/contribution/303
END:VEVENT
END:VCALENDAR
