BEGIN:VCALENDAR
VERSION:2.0
PRODID:-//CERN//INDICO//EN
BEGIN:VEVENT
SUMMARY:Registration
DTSTART;VALUE=DATE-TIME:20160704T061500Z
DTEND;VALUE=DATE-TIME:20160704T070000Z
DTSTAMP;VALUE=DATE-TIME:20240317T195641Z
UID:indico-contribution-0@ictp.it
DESCRIPTION:Speakers: \n//indico.ictp.it/event/7647/session/0/contribution
 /0
LOCATION:ICTP Leonardo Building - Lobby
URL://indico.ictp.it/event/7647/session/0/contribution/0
END:VEVENT
END:VCALENDAR
