BEGIN:VCALENDAR
VERSION:2.0
PRODID:-//CERN//INDICO//EN
BEGIN:VEVENT
SUMMARY:Exercise class
DTSTART;VALUE=DATE-TIME:20160704T123000Z
DTEND;VALUE=DATE-TIME:20160704T143000Z
DTSTAMP;VALUE=DATE-TIME:20240317T195825Z
UID:indico-contribution-4@ictp.it
DESCRIPTION:Speakers: \n//indico.ictp.it/event/7647/session/0/contribution
 /4
LOCATION:ICTP LB (Budinich Lecture Hall)
URL://indico.ictp.it/event/7647/session/0/contribution/4
END:VEVENT
END:VCALENDAR
