BEGIN:VCALENDAR
VERSION:2.0
PRODID:-//CERN//INDICO//EN
BEGIN:VEVENT
SUMMARY:Exercise class
DTSTART;VALUE=DATE-TIME:20160711T120000Z
DTEND;VALUE=DATE-TIME:20160711T140000Z
DTSTAMP;VALUE=DATE-TIME:20240317T200052Z
UID:indico-contribution-29@ictp.it
DESCRIPTION:Speakers: \n//indico.ictp.it/event/7647/session/5/contribution
 /29
LOCATION:ICTP LB (Budinich Lecture Hall)
URL://indico.ictp.it/event/7647/session/5/contribution/29
END:VEVENT
END:VCALENDAR
