BEGIN:VCALENDAR
VERSION:2.0
PRODID:-//CERN//INDICO//EN
BEGIN:VEVENT
SUMMARY:The major chromatin classes blueprint the nuclear architecture
DTSTART;VALUE=DATE-TIME:20160620T100000Z
DTEND;VALUE=DATE-TIME:20160620T104500Z
DTSTAMP;VALUE=DATE-TIME:20240317T230558Z
UID:indico-contribution-370@ictp.it
DESCRIPTION:Speakers: IRINA SOLOVEI ()\n//indico.ictp.it/event/7660/sessio
 n/40/contribution/370
LOCATION:ICTP Leonardo Building - Budinich Lecture Hall
URL://indico.ictp.it/event/7660/session/40/contribution/370
END:VEVENT
END:VCALENDAR
