BEGIN:VCALENDAR
VERSION:2.0
PRODID:-//CERN//INDICO//EN
BEGIN:VEVENT
SUMMARY:Deep Imaging to probe genome organization and function
DTSTART;VALUE=DATE-TIME:20160620T121500Z
DTEND;VALUE=DATE-TIME:20160620T130000Z
DTSTAMP;VALUE=DATE-TIME:20240317T225124Z
UID:indico-contribution-372@ictp.it
DESCRIPTION:Speakers: TOM MISTELLI ()\n//indico.ictp.it/event/7660/session
 /40/contribution/372
LOCATION:ICTP Leonardo Building - Budinich Lecture Hall
URL://indico.ictp.it/event/7660/session/40/contribution/372
END:VEVENT
END:VCALENDAR
