BEGIN:VCALENDAR
VERSION:2.0
PRODID:-//CERN//INDICO//EN
BEGIN:VEVENT
SUMMARY:The HRS-Seq: A Novel Method for Genome-Wide Profiling of Nuclear 
 Compartment-Associated Sequences
DTSTART;VALUE=DATE-TIME:20160622T150000Z
DTEND;VALUE=DATE-TIME:20160622T153000Z
DTSTAMP;VALUE=DATE-TIME:20240318T001413Z
UID:indico-contribution-395@ictp.it
DESCRIPTION:Speakers: MARIE-ODILE BAUDEMENT ()\n//indico.ictp.it/event/766
 0/session/42/contribution/395
LOCATION:ICTP Leonardo Building - Budinich Lecture Hall
URL://indico.ictp.it/event/7660/session/42/contribution/395
END:VEVENT
END:VCALENDAR
