BEGIN:VCALENDAR
VERSION:2.0
PRODID:-//CERN//INDICO//EN
BEGIN:VEVENT
SUMMARY:Nanoscale Structuration & Regulation of Chromatin Folding Revealed
  by Super- Resolution
DTSTART;VALUE=DATE-TIME:20160622T153000Z
DTEND;VALUE=DATE-TIME:20160622T160000Z
DTSTAMP;VALUE=DATE-TIME:20240317T230755Z
UID:indico-contribution-396@ictp.it
DESCRIPTION:Speakers: DIEGO DATTONI ()\n//indico.ictp.it/event/7660/sessio
 n/42/contribution/396
LOCATION:ICTP Leonardo Building - Budinich Lecture Hall
URL://indico.ictp.it/event/7660/session/42/contribution/396
END:VEVENT
END:VCALENDAR
