BEGIN:VCALENDAR
VERSION:2.0
PRODID:-//CERN//INDICO//EN
BEGIN:VEVENT
SUMMARY:Understanding the Pathogenic Effects of Structure Variations on Ch
 romatin Organization
DTSTART;VALUE=DATE-TIME:20160623T144500Z
DTEND;VALUE=DATE-TIME:20160623T151500Z
DTSTAMP;VALUE=DATE-TIME:20240317T234708Z
UID:indico-contribution-408@ictp.it
DESCRIPTION:Speakers: DARIO G. LUPIÁÑEZ ()\n//indico.ictp.it/event/7660/
 session/43/contribution/408
LOCATION:ICTP Leonardo Building - Budinich Lecture Hall
URL://indico.ictp.it/event/7660/session/43/contribution/408
END:VEVENT
END:VCALENDAR
