BEGIN:VCALENDAR
VERSION:2.0
PRODID:-//CERN//INDICO//EN
BEGIN:VEVENT
SUMMARY:Morning Session Chair:  Christoph Cremer
DTSTART;VALUE=DATE-TIME:20160623T071500Z
DTEND;VALUE=DATE-TIME:20160623T073500Z
DTSTAMP;VALUE=DATE-TIME:20240317T233952Z
UID:indico-contribution-43-0-398@ictp.it
DESCRIPTION:Speakers: \n//indico.ictp.it/event/7660/session/43/contributio
 n/398
LOCATION:ICTP LB (Budinich Lecture Hall)
URL://indico.ictp.it/event/7660/session/43/contribution/398
END:VEVENT
BEGIN:VEVENT
SUMMARY:Structural organization of the inactive X-chromsome in the mouse
DTSTART;VALUE=DATE-TIME:20160623T071500Z
DTEND;VALUE=DATE-TIME:20160623T080000Z
DTSTAMP;VALUE=DATE-TIME:20240317T233952Z
UID:indico-contribution-43-0-399@ictp.it
DESCRIPTION:Speakers: LUCA GIORGETTI ()\n//indico.ictp.it/event/7660/sessi
 on/43/contribution/399
LOCATION:ICTP Leonardo Building - Budinich Lecture Hall
URL://indico.ictp.it/event/7660/session/43/contribution/399
END:VEVENT
BEGIN:VEVENT
SUMMARY:Chromatin state and architecture guides the function of along nonc
 oding RNA
DTSTART;VALUE=DATE-TIME:20160623T083000Z
DTEND;VALUE=DATE-TIME:20160623T091500Z
DTSTAMP;VALUE=DATE-TIME:20240317T233952Z
UID:indico-contribution-43-0-400@ictp.it
DESCRIPTION:Speakers: JOSÉE DOSTIE ()\n//indico.ictp.it/event/7660/sessio
 n/43/contribution/400
LOCATION:ICTP Leonardo Building - Budinich Lecture Hall
URL://indico.ictp.it/event/7660/session/43/contribution/400
END:VEVENT
BEGIN:VEVENT
SUMMARY:Epigenomics in 4D:  A functional role for the dynamic coupling bet
 ween epigenome and chromatin organization
DTSTART;VALUE=DATE-TIME:20160623T091500Z
DTEND;VALUE=DATE-TIME:20160623T100000Z
DTSTAMP;VALUE=DATE-TIME:20240317T233952Z
UID:indico-contribution-43-0-401@ictp.it
DESCRIPTION:Speakers: DANIEL JOST ()\n//indico.ictp.it/event/7660/session/
 43/contribution/401
LOCATION:ICTP Leonardo Building - Budinich Lecture Hall
URL://indico.ictp.it/event/7660/session/43/contribution/401
END:VEVENT
BEGIN:VEVENT
SUMMARY:Chromatin Capture and epigenetic data evidence integration using m
 ulti layer and hierarchical block matrices
DTSTART;VALUE=DATE-TIME:20160623T100000Z
DTEND;VALUE=DATE-TIME:20160623T104500Z
DTSTAMP;VALUE=DATE-TIME:20240317T233952Z
UID:indico-contribution-43-0-402@ictp.it
DESCRIPTION:Speakers: PIETRO LIÒ ()\n//indico.ictp.it/event/7660/session/
 43/contribution/402
LOCATION:ICTP Leonardo Building - Budinich Lecture Hall
URL://indico.ictp.it/event/7660/session/43/contribution/402
END:VEVENT
BEGIN:VEVENT
SUMMARY:Afternoon Session Chair: Josée Dostie
DTSTART;VALUE=DATE-TIME:20160623T121500Z
DTEND;VALUE=DATE-TIME:20160623T123500Z
DTSTAMP;VALUE=DATE-TIME:20240317T233952Z
UID:indico-contribution-43-0-403@ictp.it
DESCRIPTION:Speakers: \n//indico.ictp.it/event/7660/session/43/contributio
 n/403
LOCATION:ICTP LB (Budinich Lecture Hall)
URL://indico.ictp.it/event/7660/session/43/contribution/403
END:VEVENT
BEGIN:VEVENT
SUMMARY:Structural organization of human replication timing domains
DTSTART;VALUE=DATE-TIME:20160623T121500Z
DTEND;VALUE=DATE-TIME:20160623T130000Z
DTSTAMP;VALUE=DATE-TIME:20240317T233952Z
UID:indico-contribution-43-0-404@ictp.it
DESCRIPTION:Speakers: BENJAMIN AUDIT ()\n//indico.ictp.it/event/7660/sessi
 on/43/contribution/404
LOCATION:ICTP Leonardo Building - Budinich Lecture Hall
URL://indico.ictp.it/event/7660/session/43/contribution/404
END:VEVENT
BEGIN:VEVENT
SUMMARY:Genome architecture mapping:  a spatial approach to map chromatin 
 contacts
DTSTART;VALUE=DATE-TIME:20160623T133000Z
DTEND;VALUE=DATE-TIME:20160623T141500Z
DTSTAMP;VALUE=DATE-TIME:20240317T233952Z
UID:indico-contribution-43-0-405@ictp.it
DESCRIPTION:Speakers: ANA POMBO ()\n//indico.ictp.it/event/7660/session/43
 /contribution/405
LOCATION:ICTP Leonardo Building - Budinich Lecture Hall
URL://indico.ictp.it/event/7660/session/43/contribution/405
END:VEVENT
BEGIN:VEVENT
SUMMARY:Short talks selected from Best Posters  II
DTSTART;VALUE=DATE-TIME:20160623T141500Z
DTEND;VALUE=DATE-TIME:20160623T143500Z
DTSTAMP;VALUE=DATE-TIME:20240317T233952Z
UID:indico-contribution-43-0-406@ictp.it
DESCRIPTION:Speakers: \n//indico.ictp.it/event/7660/session/43/contributio
 n/406
LOCATION:ICTP LB (Budinich Lecture Hall)
URL://indico.ictp.it/event/7660/session/43/contribution/406
END:VEVENT
BEGIN:VEVENT
SUMMARY:Impairment of LaminA/C Polycomb Crosstalk Affects Genome Compartme
 ntalization in Laminopathies
DTSTART;VALUE=DATE-TIME:20160623T141500Z
DTEND;VALUE=DATE-TIME:20160623T144500Z
DTSTAMP;VALUE=DATE-TIME:20240317T233952Z
UID:indico-contribution-43-0-407@ictp.it
DESCRIPTION:Speakers: CHIARA LANZUOLO ()\n//indico.ictp.it/event/7660/sess
 ion/43/contribution/407
LOCATION:ICTP Leonardo Building - Budinich Lecture Hall
URL://indico.ictp.it/event/7660/session/43/contribution/407
END:VEVENT
BEGIN:VEVENT
SUMMARY:Understanding the Pathogenic Effects of Structure Variations on Ch
 romatin Organization
DTSTART;VALUE=DATE-TIME:20160623T144500Z
DTEND;VALUE=DATE-TIME:20160623T151500Z
DTSTAMP;VALUE=DATE-TIME:20240317T233952Z
UID:indico-contribution-43-0-408@ictp.it
DESCRIPTION:Speakers: DARIO G. LUPIÁÑEZ ()\n//indico.ictp.it/event/7660/
 session/43/contribution/408
LOCATION:ICTP Leonardo Building - Budinich Lecture Hall
URL://indico.ictp.it/event/7660/session/43/contribution/408
END:VEVENT
BEGIN:VEVENT
SUMMARY:Cellular Systems Biology of Chromosome Dynamics
DTSTART;VALUE=DATE-TIME:20160623T151500Z
DTEND;VALUE=DATE-TIME:20160623T154500Z
DTSTAMP;VALUE=DATE-TIME:20240317T233952Z
UID:indico-contribution-43-0-409@ictp.it
DESCRIPTION:Speakers: KAREN LIPKOW ()\n//indico.ictp.it/event/7660/session
 /43/contribution/409
LOCATION:ICTP Leonardo Building - Budinich Lecture Hall
URL://indico.ictp.it/event/7660/session/43/contribution/409
END:VEVENT
BEGIN:VEVENT
SUMMARY:Quantitative Assessment of Irreversible Crosslink Effect on Chroma
 tin Structure
DTSTART;VALUE=DATE-TIME:20160623T154500Z
DTEND;VALUE=DATE-TIME:20160623T161500Z
DTSTAMP;VALUE=DATE-TIME:20240317T233952Z
UID:indico-contribution-43-0-410@ictp.it
DESCRIPTION:Speakers: VITTORE F. SCOLARI ()\n//indico.ictp.it/event/7660/s
 ession/43/contribution/410
LOCATION:ICTP Leonardo Building - Budinich Lecture Hall
URL://indico.ictp.it/event/7660/session/43/contribution/410
END:VEVENT
END:VCALENDAR
