BEGIN:VCALENDAR
VERSION:2.0
PRODID:-//CERN//INDICO//EN
BEGIN:VEVENT
SUMMARY:Morning Session Chair:  Angelo Rosa
DTSTART;VALUE=DATE-TIME:20160624T071500Z
DTEND;VALUE=DATE-TIME:20160624T073500Z
DTSTAMP;VALUE=DATE-TIME:20240317T230147Z
UID:indico-contribution-411@ictp.it
DESCRIPTION:Speakers: \n//indico.ictp.it/event/7660/session/44/contributio
 n/411
LOCATION:ICTP Leonardo Building - Budinich Lecture Hall
URL://indico.ictp.it/event/7660/session/44/contribution/411
END:VEVENT
END:VCALENDAR
