BEGIN:VCALENDAR
VERSION:2.0
PRODID:-//CERN//INDICO//EN
BEGIN:VEVENT
SUMMARY:Ocean-to-atmosphere feedbacks in the Indian Ocean
DTSTART;VALUE=DATE-TIME:20160614T080000Z
DTEND;VALUE=DATE-TIME:20160614T083000Z
DTSTAMP;VALUE=DATE-TIME:20240318T052902Z
UID:indico-contribution-29-0-121@ictp.it
DESCRIPTION:Speakers: JAY MCCREARY ()\n//indico.ictp.it/event/7666/session
 /29/contribution/121
LOCATION:ICTP AGH (Giambiagi Lecture Hall)
URL://indico.ictp.it/event/7666/session/29/contribution/121
END:VEVENT
BEGIN:VEVENT
SUMMARY:Shallow salinity stratification and air-sea interaction in the Bay
  of Bengal
DTSTART;VALUE=DATE-TIME:20160614T093000Z
DTEND;VALUE=DATE-TIME:20160614T100000Z
DTSTAMP;VALUE=DATE-TIME:20240318T052902Z
UID:indico-contribution-29-0-122@ictp.it
DESCRIPTION:Speakers: DEBASIS SENGUPTA ()\n//indico.ictp.it/event/7666/ses
 sion/29/contribution/122
LOCATION:ICTP AGH (Giambiagi Lecture Hall)
URL://indico.ictp.it/event/7666/session/29/contribution/122
END:VEVENT
BEGIN:VEVENT
SUMMARY:Some aspects of the South American monsoon variability
DTSTART;VALUE=DATE-TIME:20160614T100000Z
DTEND;VALUE=DATE-TIME:20160614T103000Z
DTSTAMP;VALUE=DATE-TIME:20240318T052902Z
UID:indico-contribution-29-0-147@ictp.it
DESCRIPTION:Speakers: GRIMM\, Alice M. ()\n//indico.ictp.it/event/7666/ses
 sion/29/contribution/147
LOCATION:ICTP AGH (Giambiagi Lecture Hall)
URL://indico.ictp.it/event/7666/session/29/contribution/147
END:VEVENT
END:VCALENDAR
