BEGIN:VCALENDAR
VERSION:2.0
PRODID:-//CERN//INDICO//EN
BEGIN:VEVENT
SUMMARY:Monsoons in NICAM and challenges ahead
DTSTART;VALUE=DATE-TIME:20160614T120000Z
DTEND;VALUE=DATE-TIME:20160614T123000Z
DTSTAMP;VALUE=DATE-TIME:20240318T055319Z
UID:indico-contribution-123@ictp.it
DESCRIPTION:Speakers: TOMOE NASUNO ()\n//indico.ictp.it/event/7666/session
 /30/contribution/123
LOCATION:ICTP AGH (Giambiagi Lecture Hall)
URL://indico.ictp.it/event/7666/session/30/contribution/123
END:VEVENT
END:VCALENDAR
