BEGIN:VCALENDAR
VERSION:2.0
PRODID:-//CERN//INDICO//EN
BEGIN:VEVENT
SUMMARY:Open Discussion
DTSTART;VALUE=DATE-TIME:20160614T140000Z
DTEND;VALUE=DATE-TIME:20160614T153000Z
DTSTAMP;VALUE=DATE-TIME:20240318T061425Z
UID:indico-contribution-126@ictp.it
DESCRIPTION:Speakers: \n//indico.ictp.it/event/7666/session/31/contributio
 n/126
LOCATION:ICTP AGH (Giambiagi Lecture Hall)
URL://indico.ictp.it/event/7666/session/31/contribution/126
END:VEVENT
END:VCALENDAR
