BEGIN:VCALENDAR
VERSION:2.0
PRODID:-//CERN//INDICO//EN
BEGIN:VEVENT
SUMMARY:ICTP/ESP Presentation: The ICTP Regional System Model (RegESM) to 
 simulate the monsoon in the South Asia CORDEX domain
DTSTART;VALUE=DATE-TIME:20160615T140000Z
DTEND;VALUE=DATE-TIME:20160615T143000Z
DTSTAMP;VALUE=DATE-TIME:20240318T042924Z
UID:indico-contribution-130@ictp.it
DESCRIPTION:Speakers: FABIO DI SANTE ()\n//indico.ictp.it/event/7666/sessi
 on/33/contribution/130
LOCATION:ICTP AGH (Giambiagi Lecture Hall)
URL://indico.ictp.it/event/7666/session/33/contribution/130
END:VEVENT
END:VCALENDAR
