BEGIN:VCALENDAR
VERSION:2.0
PRODID:-//CERN//INDICO//EN
BEGIN:VEVENT
SUMMARY:Satellite observations to validate climate models
DTSTART;VALUE=DATE-TIME:20160614T070000Z
DTEND;VALUE=DATE-TIME:20160614T073000Z
DTSTAMP;VALUE=DATE-TIME:20240318T055026Z
UID:indico-contribution-38-0-148@ictp.it
DESCRIPTION:Speakers: TAKAYABU\, Yukari ()\n//indico.ictp.it/event/7666/se
 ssion/38/contribution/148
LOCATION:ICTP AGH (Giambiagi Lecture Hall)
URL://indico.ictp.it/event/7666/session/38/contribution/148
END:VEVENT
BEGIN:VEVENT
SUMMARY:Upper ocean structure of the Bay of Bengal and its role in air-sea
  interaction
DTSTART;VALUE=DATE-TIME:20160614T073000Z
DTEND;VALUE=DATE-TIME:20160614T080000Z
DTSTAMP;VALUE=DATE-TIME:20240318T055026Z
UID:indico-contribution-38-0-149@ictp.it
DESCRIPTION:Speakers: MAHADEVAN\, Amala ()\n//indico.ictp.it/event/7666/se
 ssion/38/contribution/149
LOCATION:ICTP AGH (Giambiagi Lecture Hall)
URL://indico.ictp.it/event/7666/session/38/contribution/149
END:VEVENT
END:VCALENDAR
