BEGIN:VCALENDAR
VERSION:2.0
PRODID:-//CERN//INDICO//EN
BEGIN:VEVENT
SUMMARY:Setting the scene: Evolution of Science and Diplomacy in the 21st 
 Centrury
DTSTART;VALUE=DATE-TIME:20160712T070000Z
DTEND;VALUE=DATE-TIME:20160712T080000Z
DTSTAMP;VALUE=DATE-TIME:20240229T210724Z
UID:indico-contribution-2@ictp.it
DESCRIPTION:Speakers: TOM WANG (AAS)\n//indico.ictp.it/event/7706/session/
 1/contribution/2
LOCATION:Trieste - Italy Adriatico Guest House - Giambiagi Lecture Hall
URL://indico.ictp.it/event/7706/session/1/contribution/2
END:VEVENT
END:VCALENDAR
