BEGIN:VCALENDAR
VERSION:2.0
PRODID:-//CERN//INDICO//EN
BEGIN:VEVENT
SUMMARY:Q&A\, work on projects
DTSTART;VALUE=DATE-TIME:20160324T144500Z
DTEND;VALUE=DATE-TIME:20160324T160000Z
DTSTAMP;VALUE=DATE-TIME:20240319T103247Z
UID:indico-contribution-15@ictp.it
DESCRIPTION:Speakers: \n//indico.ictp.it/event/7751/session/3/contribution
 /15
LOCATION:ICTP Adriatico Guest House -  Informatics Lab (Lower Level 1)
URL://indico.ictp.it/event/7751/session/3/contribution/15
END:VEVENT
END:VCALENDAR
