BEGIN:VCALENDAR
VERSION:2.0
PRODID:-//CERN//INDICO//EN
BEGIN:VEVENT
SUMMARY:The air quality and pollution in Georgia and its trend and potenti
 al impacts due to climate change: the importance of Regional monitoring ag
 encies.
DTSTART;VALUE=DATE-TIME:20171003T090000Z
DTEND;VALUE=DATE-TIME:20171003T093000Z
DTSTAMP;VALUE=DATE-TIME:20240229T181854Z
UID:indico-contribution-4@ictp.it
DESCRIPTION:Speakers: ARABIDZE\, Marina (National Environment Agency of Ge
 orgia)\n//indico.ictp.it/event/7966/session/0/contribution/4
LOCATION: - Georgia
URL://indico.ictp.it/event/7966/session/0/contribution/4
END:VEVENT
END:VCALENDAR
