BEGIN:VCALENDAR
VERSION:2.0
PRODID:-//CERN//INDICO//EN
BEGIN:VEVENT
SUMMARY:Localizing RegCM model
DTSTART;VALUE=DATE-TIME:20171004T070000Z
DTEND;VALUE=DATE-TIME:20171004T083000Z
DTSTAMP;VALUE=DATE-TIME:20240229T181825Z
UID:indico-contribution-1-0-9@ictp.it
DESCRIPTION:Speakers: GIULIANI\, Graziano (ICTP\, Italy)\n//indico.ictp.it
 /event/7966/session/1/contribution/9
LOCATION: - Georgia
URL://indico.ictp.it/event/7966/session/1/contribution/9
END:VEVENT
BEGIN:VEVENT
SUMMARY:Lab Session – BSU Computer Lab
DTSTART;VALUE=DATE-TIME:20171004T090000Z
DTEND;VALUE=DATE-TIME:20171004T103000Z
DTSTAMP;VALUE=DATE-TIME:20240229T181825Z
UID:indico-contribution-1-0-10@ictp.it
DESCRIPTION:Speakers: \n//indico.ictp.it/event/7966/session/1/contribution
 /10
LOCATION: - Georgia
URL://indico.ictp.it/event/7966/session/1/contribution/10
END:VEVENT
BEGIN:VEVENT
SUMMARY:Lab Session – BSU Computer Lab
DTSTART;VALUE=DATE-TIME:20171004T120000Z
DTEND;VALUE=DATE-TIME:20171004T133000Z
DTSTAMP;VALUE=DATE-TIME:20240229T181825Z
UID:indico-contribution-1-0-11@ictp.it
DESCRIPTION:Speakers: \n//indico.ictp.it/event/7966/session/1/contribution
 /11
LOCATION: - Georgia
URL://indico.ictp.it/event/7966/session/1/contribution/11
END:VEVENT
BEGIN:VEVENT
SUMMARY:Lab Session – BSU Computer Lab
DTSTART;VALUE=DATE-TIME:20171004T140000Z
DTEND;VALUE=DATE-TIME:20171004T150000Z
DTSTAMP;VALUE=DATE-TIME:20240229T181825Z
UID:indico-contribution-1-0-12@ictp.it
DESCRIPTION:Speakers: \n//indico.ictp.it/event/7966/session/1/contribution
 /12
LOCATION: - Georgia
URL://indico.ictp.it/event/7966/session/1/contribution/12
END:VEVENT
BEGIN:VEVENT
SUMMARY:Participants Poster presentations
DTSTART;VALUE=DATE-TIME:20171004T150000Z
DTEND;VALUE=DATE-TIME:20171004T163000Z
DTSTAMP;VALUE=DATE-TIME:20240229T181825Z
UID:indico-contribution-1-0-13@ictp.it
DESCRIPTION:Speakers: \n//indico.ictp.it/event/7966/session/1/contribution
 /13
LOCATION: - Georgia
URL://indico.ictp.it/event/7966/session/1/contribution/13
END:VEVENT
END:VCALENDAR
