BEGIN:VCALENDAR
VERSION:2.0
PRODID:-//CERN//INDICO//EN
BEGIN:VEVENT
SUMMARY:Lab Session – BSU Computer Lab
DTSTART;VALUE=DATE-TIME:20171005T090000Z
DTEND;VALUE=DATE-TIME:20171005T093000Z
DTSTAMP;VALUE=DATE-TIME:20240229T181847Z
UID:indico-contribution-16@ictp.it
DESCRIPTION:Speakers: \n//indico.ictp.it/event/7966/session/2/contribution
 /16
LOCATION: - Georgia
URL://indico.ictp.it/event/7966/session/2/contribution/16
END:VEVENT
END:VCALENDAR
