BEGIN:VCALENDAR
VERSION:2.0
PRODID:-//CERN//INDICO//EN
BEGIN:VEVENT
SUMMARY:Seismic hazard: source and site effects
DTSTART;VALUE=DATE-TIME:20171213T130000Z
DTEND;VALUE=DATE-TIME:20171213T143000Z
DTSTAMP;VALUE=DATE-TIME:20240229T174956Z
UID:indico-contribution-15@ictp.it
DESCRIPTION:Speakers: FABIO ROMANELLI (University of Trieste\, Italy)\n//i
 ndico.ictp.it/event/8176/session/2/contribution/15
LOCATION:Hanoi - Viet Nam
URL://indico.ictp.it/event/8176/session/2/contribution/15
END:VEVENT
END:VCALENDAR
