BEGIN:VCALENDAR
VERSION:2.0
PRODID:-//CERN//INDICO//EN
BEGIN:VEVENT
SUMMARY:Extended Earthquake Source
DTSTART;VALUE=DATE-TIME:20171214T090000Z
DTEND;VALUE=DATE-TIME:20171214T100000Z
DTSTAMP;VALUE=DATE-TIME:20240229T175355Z
UID:indico-contribution-19@ictp.it
DESCRIPTION:Speakers: ANNE REPLUMAZ (Universite Grenoble Alpes\, France)\n
 //indico.ictp.it/event/8176/session/3/contribution/19
LOCATION:Hanoi - Viet Nam
URL://indico.ictp.it/event/8176/session/3/contribution/19
END:VEVENT
END:VCALENDAR
